BEGIN:VCALENDAR
VERSION:2.0
PRODID:-//hacksw/handcal//NONSGML v1.0//EN
CALSCALE:GREGORIAN
BEGIN:VEVENT
DTEND:20170828T180000Z
UID: 69e904edd4872
DTSTAMP:20260422T122709Z
LOCATION:The Gerber Center for Student Life
DESCRIPTION:Community members will crochet small circles that will form a larger public "yarn bomb" art project in October on 7th Avenue in Rock Island . All are invited to this workshop to learn to crochet and participate. Workshop will run from&nbsp\;1-4 p.m.\n\nA second learn-to-crochet workshop will be offered from&nbsp\;5-8 p.m.&nbsp\;Aug. 29&nbsp\;at the Figge Art Museum in Davenport.\n\n• More information about the yarn bomb project and artist Carol Hummel.\n\nRelated events\n\nCrochet-In events (knowledge of crocheting required)\n\nSept. 12 and Oct. 17&nbsp\;from&nbsp\;6-8 p.m.\, &nbsp\;Rozz-Tox\, 2108 3rd Ave.\, Rock Island\n\nSept. 28&nbsp\;from&nbsp\;5-7 p.m.&nbsp\;and&nbsp\;Oct. 12&nbsp\;from&nbsp\;6-8 p.m.\, Figge Art Museum\n\nUnveiling reception:&nbsp\;Oct. 29\,&nbsp\;4-5 p.m.\, on the Augustana campus\n
URL;VALUE=URI:https://www.augustana.edu/about-us/events/2017/yarn-bomb-crochet-workshop
SUMMARY:Yarn bomb crochet workshop
DTSTART:20170828T180000Z
END:VEVENT
END:VCALENDAR
