BEGIN:VCALENDAR
VERSION:2.0
PRODID:-//hacksw/handcal//NONSGML v1.0//EN
CALSCALE:GREGORIAN
BEGIN:VEVENT
DTEND:20170827T010000Z
UID: 69e9056c2b6de
DTSTAMP:20260422T122916Z
LOCATION:Centennial Hall
DESCRIPTION:The Second City National Touring Company has been entertaining audiences for over 50 year\, and returns to Augustana to showcase the best in improvisational comedy and satire.\n\nThis performance may include adult subject matter and may not be appropriate for younger audiences.\n
URL;VALUE=URI:https://www.augustana.edu/about-us/events/2017/second-city-national-touring-company
SUMMARY:Second City National Touring Company
DTSTART:20170827T010000Z
END:VEVENT
END:VCALENDAR
