BEGIN:VCALENDAR
VERSION:2.0
PRODID:-//hacksw/handcal//NONSGML v1.0//EN
CALSCALE:GREGORIAN
BEGIN:VEVENT
DTEND:20170818T000000Z
UID: 69e905683bf33
DTSTAMP:20260422T122912Z
LOCATION:Figge Art Museum
DESCRIPTION:Historian and folklorist Dr. Roald Tweet will share his stories of the Mississippi Valley\, in celebration of the current photo exhibition "Life Along the Mississippi."\n\nDr. Tweet is a professor emeritus of English at Augustana.\n\nA social hour will precede the talk at&nbsp\;5:30 p.m.\n
URL;VALUE=URI:https://www.augustana.edu/about-us/events/2017/exhibition-talk-dr-roald-tweet
SUMMARY:Exhibition Talk: Dr. Roald Tweet
DTSTART:20170818T000000Z
END:VEVENT
END:VCALENDAR
