BEGIN:VCALENDAR
VERSION:2.0
PRODID:-//hacksw/handcal//NONSGML v1.0//EN
CALSCALE:GREGORIAN
BEGIN:VEVENT
DTEND:20180519T210000Z
UID: 69e9056c2b81b
DTSTAMP:20260422T122916Z
LOCATION:Centennial Hall
DESCRIPTION:The Music Festival will feature performances the&nbsp\;Augustana Choir\,&nbsp\;Augustana Symphonic Band and&nbsp\;Augustana Symphonic Orchestra.\n\n\n	\n		\n			\n			Augustana Symphonic Band\n			\n		\n		\n			\n			Symphony No. 4 (1993)\n			\n			&nbsp\;\n			David Maslanka (1943-2017)\n		\n		\n			\n			Augustana Symphony Orchestra\n			\n		\n		\n			\n			Enigma Variations\, Op. 36 (1898-9)\n			Theme\n			I. C.A.E.\n			II. H.D. S.-P.\n			III. R.B.T.\n			IV. W.M.B\n			V. R.P.A.\n			VI. Ysobel\n			VII. Troyte\n			VIII. W.N.\n			IX. Nimrod\n			\n			&nbsp\;\n			Edward Elgar (1857-1934)\n		\n		\n			\n			Academic Festival Overture\, Op. 80 (1880)\n			\n			&nbsp\;\n			Johannes Brahms (1833-1897)\n		\n		\n			\n			Augustana Choir\n			\n		\n		\n			\n			The Conversion of Saul\n			\n			&nbsp\;\n			Z. Randall Stroope (b. 1953)\n		\n		\n			\n			Yver\, vous n’estes qu’un vilain!\n			From Trois Chansons de Charles d’Orléans\n			\n			&nbsp\;\n			Claude Debussy (1862-1918)\n		\n		\n			\n			Jenga Imani Yako\n			\n			&nbsp\;\n			Israel Kagaruki (b. 1960)\n		\n		\n			\n			Dwijavanthi — An Indian Raga\n			\n			&nbsp\;\n			ETHAN SPERRY (arr.) (b. 1971)\n		\n		\n			\n			Ancient Prairie\n			Abigail Smith\, violin\n			\n			&nbsp\;\n			Ēriks Ešenvalds (b. 1977)\n		\n		\n			\n			My God is a Rock\n			\n			&nbsp\;\n			Stacy V. Gibbs (b. 1962)\n		\n	\n\n
URL;VALUE=URI:https://www.augustana.edu/about-us/events/2017/augustana-music-festival
SUMMARY:Augustana Music Festival
DTSTART:20180519T210000Z
END:VEVENT
END:VCALENDAR
