BEGIN:VCALENDAR
VERSION:2.0
PRODID:-//hacksw/handcal//NONSGML v1.0//EN
CALSCALE:GREGORIAN
BEGIN:VEVENT
DTEND:20180429T000000Z
UID: 69e905085e733
DTSTAMP:20260422T122736Z
LOCATION:Centennial Hall
DESCRIPTION:The Augustana Symphony Orchestra will present "Portraits of England\," with varied pictures of English life and culture through the lens of the classical music repertory.\n\nJohannes Brahms’s youthful depiction of the school experience comes to life through his rambunctious&nbsp\;"Academic Festival Overture." The program continues with Gustav Holst’s wistful and pastoral stroll through the countryside in "Two Songs Without Words." The performance closes with&nbsp\;Edward Elgar’s deeply personal and intimate musical vignettes celebrating the relationships of those closest to him.&nbsp\;\n
URL;VALUE=URI:https://www.augustana.edu/about-us/events/2017/augustana-symphony-orchestra-portraits-england
SUMMARY:Augustana Symphony Orchestra: Portraits of England 
DTSTART:20180429T000000Z
END:VEVENT
END:VCALENDAR
