BEGIN:VCALENDAR
VERSION:2.0
PRODID:-//hacksw/handcal//NONSGML v1.0//EN
CALSCALE:GREGORIAN
BEGIN:VEVENT
DTEND:20180422T190000Z
UID: 69e904ca6e5f3
DTSTAMP:20260422T122634Z
LOCATION:
DESCRIPTION:The Augustana Percussion Ensemble is a chamber group and performs music specifically written for the percussion ensemble from 1930 to the present\, along with various transcriptions and arrangements of music never imagined for percussion.\n\nConcerts present a diverse mix of musical styles — from light to serious to “out there” — and participants play traditional and non-traditional percussion instruments of all kinds.\n\nThe ensemble performs two large concerts on campus during the year\, one in winter and one in spring.\n\nThe ensemble is directed by&nbsp\;Dr. Tony Oliver.\n
URL;VALUE=URI:https://www.augustana.edu/about-us/events/2017/augustana-percussion-ensemble-concert-0
SUMMARY:Augustana Percussion Ensemble Concert
DTSTART:20180422T190000Z
END:VEVENT
END:VCALENDAR
