BEGIN:VCALENDAR
VERSION:2.0
PRODID:-//hacksw/handcal//NONSGML v1.0//EN
CALSCALE:GREGORIAN
BEGIN:VEVENT
DTEND:20220501T200000Z
UID: 69e7bb527604e
DTSTAMP:20260421T130050Z
LOCATION:Centennial Hall
DESCRIPTION:The 200-member Handel Oratorio Society and professional&nbsp\;Handel Oratorio Society Chamber Orchestra will&nbsp\; perform Handel's masterwork.\n\n• Related: Returning "Messiah" brings back memories\n
URL;VALUE=URI:https://www.augustana.edu/about-us/events/2022/messiah
SUMMARY:The Messiah
DTSTART:20220501T200000Z
END:VEVENT
END:VCALENDAR
