BEGIN:VCALENDAR
VERSION:2.0
PRODID:-//hacksw/handcal//NONSGML v1.0//EN
CALSCALE:GREGORIAN
BEGIN:VEVENT
DTEND:20180816T180000Z
UID: 69e904edd80fd
DTSTAMP:20260422T122709Z
LOCATION:Carver P.E. Center
DESCRIPTION:Students and their families will Join President Steve Bahls as he addresses the incoming students for the first time and welcomes them to college in the annual Opening Convocation.\n
URL;VALUE=URI:https://www.augustana.edu/about-us/events/2018/welcome-week-opening-convocation
SUMMARY:Opening Convocation
DTSTART:20180816T180000Z
END:VEVENT
END:VCALENDAR
