BEGIN:VCALENDAR
VERSION:2.0
PRODID:-//hacksw/handcal//NONSGML v1.0//EN
CALSCALE:GREGORIAN
BEGIN:VEVENT
DTEND:20180920T160000Z
UID: 69e904ca73a88
DTSTAMP:20260422T122634Z
LOCATION:PepsiCo Recreation Center
DESCRIPTION:ProFair is a twice-yearly career&nbsp\;event presented by Augustana College and St. Ambrose University\, connecting students and alumni to local and national employers&nbsp\;for jobs and internships.\n\nStudents may&nbsp\;explore companies and organizations and talk with employers about full-time\, part-time and internship opportunities.\n\nEmployers who are interested in attending ProFair can get more information and register by signing into Handshake.\n
URL;VALUE=URI:https://www.augustana.edu/about-us/events/2018/profair
SUMMARY:ProFair
DTSTART:20180920T160000Z
END:VEVENT
END:VCALENDAR
