BEGIN:VCALENDAR
VERSION:2.0
PRODID:-//hacksw/handcal//NONSGML v1.0//EN
CALSCALE:GREGORIAN
BEGIN:VEVENT
DTEND:20180204T013000Z
UID: 69e74f4c5b633
DTSTAMP:20260421T051956Z
LOCATION:Brunner Theatre Center
DESCRIPTION:"In the Next Room (or The Vibrator Play)" is about the early history of the vibrator\, when doctors used it as a clinical device to bring women to orgasm as treatment for "hysteria."&nbsp\;\n\nOther themes include Victorian ignorance of female sexual desire\, motherhood\, breastfeeding\, and jealousy. The play by Sarah Ruhl was nominated for three 2010 Tony Awards. (Wikipedia)\n\nPerformances will be at&nbsp\;7:30 p.m. Jan. 26\, 27 and&nbsp\;Feb. 2 and 3\, and at&nbsp\;1:30 p.m.&nbsp\;Jan. 28 and Feb. 4.\n
URL;VALUE=URI:https://www.augustana.edu/about-us/events/2017/next-room-or-vibrator-play-2
SUMMARY:In the Next Room (or The Vibrator Play)
DTSTART:20180204T013000Z
END:VEVENT
END:VCALENDAR
