BEGIN:VCALENDAR
VERSION:2.0
PRODID:-//hacksw/handcal//NONSGML v1.0//EN
CALSCALE:GREGORIAN
BEGIN:VEVENT
DTEND:20170916T200000Z
UID: 69e916113b107
DTSTAMP:20260422T134017Z
LOCATION:Thorson-Lucken Field
DESCRIPTION:The Augustana Vikings will take on Knox College of Galesburg\, Ill. Watch live.\n
URL;VALUE=URI:https://www.augustana.edu/about-us/events/2017/mens-soccer-vs-knox-college
SUMMARY:Men's soccer vs. Knox College
DTSTART:20170916T200000Z
END:VEVENT
END:VCALENDAR
