BEGIN:VCALENDAR
VERSION:2.0
PRODID:-//hacksw/handcal//NONSGML v1.0//EN
CALSCALE:GREGORIAN
BEGIN:VEVENT
DTEND:20171007T180000Z
UID: 69e9157b82c16
DTSTAMP:20260422T133747Z
LOCATION:Ericson Field
DESCRIPTION:The Augustana Vikings take on the Wesleyan Titans!\n
URL;VALUE=URI:https://www.augustana.edu/about-us/events/2017/football-vs-illinois-wesleyan
SUMMARY:Football vs. Illinois Wesleyan
DTSTART:20171007T180000Z
END:VEVENT
END:VCALENDAR
