BEGIN:VCALENDAR
VERSION:2.0
PRODID:-//hacksw/handcal//NONSGML v1.0//EN
CALSCALE:GREGORIAN
BEGIN:VEVENT
DTEND:20170923T230000Z
UID: 69e91270536f7
DTSTAMP:20260422T132448Z
LOCATION:Ericson Field
DESCRIPTION:The Augustana Vikings take on the Red Men of Carthage College in their first home game.\n\nWatch live\n
URL;VALUE=URI:https://www.augustana.edu/about-us/events/2017/football-vs-carthage
SUMMARY:Football vs. Carthage
DTSTART:20170923T230000Z
END:VEVENT
END:VCALENDAR
