BEGIN:VCALENDAR
VERSION:2.0
PRODID:-//hacksw/handcal//NONSGML v1.0//EN
CALSCALE:GREGORIAN
BEGIN:VEVENT
DTEND:20170619T140000Z
UID: 69e915bddaf08
DTSTAMP:20260422T133853Z
LOCATION:Denkmann Memorial Building
DESCRIPTION:The Swenson Swedish Immigration Research Center at Augustana will offer a special exhibition during Quad Cities Museum Week June 17-25.\n\n"Flying Fool: Charles Lindbergh's Story" tells the story of Lindbergh's first solo\, nonstop\, transatlantic flight\, the kidnapping and murder of his young son\, and Lindbergh's visit to the Quad Cities.\n\nThe center is open from 9 a.m. to 4:30 p.m. Monday through Thursday\, and 9 a.m.-noon Friday.\n
URL;VALUE=URI:https://www.augustana.edu/about-us/events/2017/flying-fool-charles-lindberghs-story
SUMMARY:Flying Fool: Charles Lindbergh's Story
DTSTART:20170619T140000Z
END:VEVENT
END:VCALENDAR
