BEGIN:VCALENDAR
VERSION:2.0
PRODID:-//hacksw/handcal//NONSGML v1.0//EN
CALSCALE:GREGORIAN
BEGIN:VEVENT
DTEND:20170517T000000Z
UID: 69e91275b25f7
DTSTAMP:20260422T132453Z
LOCATION:Hanson Hall of Science
DESCRIPTION:Dr. Karen Andeen '03\, assistant professor in physics at Marquette University\, will speak on "Decoding Cosmic Messages from the South Pole."\n\nThe IceCube Neutrino Observatory consists of more than 5\,500 basketball-sized light detectors melted deep into the South Pole icecap. These photodetectors are sensitive to the blue light emitted in the surrounding clear ice when cosmic messengers from some of the most violent processes in the universe pass through the earth.\n\nDr. &nbsp\;Andeen&nbsp\;began her career at Augustana&nbsp\;and has since worked and studied on six &nbsp\;continents.\n&nbsp\;\n\n&nbsp\;\n
URL;VALUE=URI:https://www.augustana.edu/about-us/events/2017/dr-karen-andeen-03-decoding-cosmic-messages-south-pole
SUMMARY:Dr. Karen Andeen '03: 'Decoding Cosmic Messages from the South Pole'
DTSTART:20170517T000000Z
END:VEVENT
END:VCALENDAR
