BEGIN:VCALENDAR
VERSION:2.0
PRODID:-//hacksw/handcal//NONSGML v1.0//EN
CALSCALE:GREGORIAN
BEGIN:VEVENT
DTEND:20170504T170000Z
UID: 69e9147ac2ce1
DTSTAMP:20260422T133330Z
LOCATION:Tennis Courts
DESCRIPTION:Augustana&nbsp\;will host the College Conference of Illinois &amp\; Wisconsin&nbsp\;Men’s Tennis Championship today through Saturday.\n&nbsp\;\nToday’s first-round matches will feature:\n\nNo. 3 seed Millikin vs. No. 6 North Central\nNo. 2 Augustana vs. No. 7 Elmhurst\nNo. 4 Carthage vs. No. 5 Carroll\nNo. 1 Wheaton vs. No. 8 Illinois Wesleyan\n&nbsp\;\nFriday’s schedule includes the fifth and seventh place matches\, followed by the main draw semifinal matches. The weekend concludes on Saturday with the third place and championship matches.\n&nbsp\;\nMatches will be played at Augustana’s tennis courts\, but in the event of bad weather\, matches will be played at the Quad City Tennis Club\, 1522 47th Ave.\,&nbsp\;Moline.\n&nbsp\;\nSaturday’s champion will earn the conference’s automatic bid to the NCAA Division III Men’s Tennis Championship.\n
URL;VALUE=URI:https://www.augustana.edu/about-us/events/2017/mens-tennis-championships
SUMMARY:Men’s Tennis Championships
DTSTART:20170504T170000Z
END:VEVENT
END:VCALENDAR
