BEGIN:VCALENDAR
VERSION:2.0
PRODID:-//hacksw/handcal//NONSGML v1.0//EN
CALSCALE:GREGORIAN
BEGIN:VEVENT
DTEND:20170723T010000Z
UID: 69e9135d1f79b
DTSTAMP:20260422T132845Z
LOCATION:Lincoln Park
DESCRIPTION:The Genesius Guild will perform Shakespeare's "Henry V"\,&nbsp\;the story of King Henry V of England before and after the Battle of Agincourt during the Hundred Years' War.\n\nSteve Mondloch '17 will be playing the lead.\n\nAll shows start at&nbsp\;8 p.m.&nbsp\;in Lincoln Park\, Rock Island. Admission is free.\n\nSchedule:\n\nJuly 22\, 23\, 29\, 30\nShakespeare: Henry V\n\nAugust 4\, 5\, 6\nAristophanes: The Clouds\n
URL;VALUE=URI:https://www.augustana.edu/about-us/events/2017/genesius-guild-henry-v
SUMMARY:Genesius Guild: Henry V
DTSTART:20170723T010000Z
END:VEVENT
END:VCALENDAR
