BEGIN:VCALENDAR
VERSION:2.0
PRODID:-//hacksw/handcal//NONSGML v1.0//EN
CALSCALE:GREGORIAN
BEGIN:VEVENT
DTEND:20170709T010000Z
UID: 69e9133f106b5
DTSTAMP:20260422T132815Z
LOCATION:Lincoln Park
DESCRIPTION:Genesius Guild will perform "The Trojan Women"&nbsp\;by Euripides." The play follows the fates of the women of Troy after their city has been sacked\, their husbands killed\, and as their remaining families are about to be taken away as slaves.\n\n"The Trojan Women" also will be performed at the same time and location July 9\, 15 and 16.\n\nOther upcoming performances\n\nJuly 22\, 23\, 29\, 30\nShakespeare: Henry V\n\nAugust 4\, 5\, 6\nAristophanes: The Clouds\n
URL;VALUE=URI:https://www.augustana.edu/about-us/events/2017/genesius-guild-trojan-women
SUMMARY:Genesius Guild: 'The Trojan Women'
DTSTART:20170709T010000Z
END:VEVENT
END:VCALENDAR
