BEGIN:VCALENDAR
VERSION:2.0
PRODID:-//hacksw/handcal//NONSGML v1.0//EN
CALSCALE:GREGORIAN
BEGIN:VEVENT
DTEND:20170603T010000Z
UID: 69e912a8dedfd
DTSTAMP:20260422T132544Z
LOCATION:Lincoln Park
DESCRIPTION:The Genesius Guild 2017 season will begin with Ballet Under the Stars\, featuring Ballet Quad Cities.\n\nAll shows start at&nbsp\;8 p.m.&nbsp\;in Lincoln Park\, Rock Island. Admission is free.\n\nSchedule:\n\nJune 2\, 3 and 4\nBallet Under the Stars\, featuring Ballet Quad Cities\n\nJune 10\, 11\, 17\, 18\nOpera - Selections from Menotti\n\nJune 24\, 25 and&nbsp\;July 1\, 2\nShakespeare: The Comedy of Errors\n\nJuly 8\, 9\, 15\, 16\nEuripides: The Trojan Women\n\nJuly 22\, 23\, 29\, 30\nShakespeare: Henry V\n\nAugust 4\, 5\, 6\nAristophanes: The Clouds\n
URL;VALUE=URI:https://www.augustana.edu/about-us/events/2017/genesius-guild-ballet-under-stars
SUMMARY:Genesius Guild: Ballet Under the Stars
DTSTART:20170603T010000Z
END:VEVENT
END:VCALENDAR
