BEGIN:VCALENDAR
VERSION:2.0
PRODID:-//hacksw/handcal//NONSGML v1.0//EN
CALSCALE:GREGORIAN
BEGIN:VEVENT
DTEND:20170510T010000Z
UID: 69e912b33f4b7
DTSTAMP:20260422T132555Z
LOCATION:Denkmann Memorial Building
DESCRIPTION:A student recital will&nbsp\;feature Grayson Dixon (piano)\, Marisa Hollems (flute)\, Allessandra West (violin)\, Kendall Hengst (alto saxophone)\, Quinten Bunch&nbsp\;(trombone)\, and Douglas James Ganster (clarinet).&nbsp\;\n\nProgram\n\nNotturno \nBy Ottorino Respighi (1879-1936)\nGrayson Dixon\, piano\n\nFlute Sonata\, FP164 \nBy Francis Poulenc (1899-1963)\nCantilena\nAllegro Malinconico \nMarisa Hollems\, flute\nCharles Schmidt\, piano\n\nSonatina in G major\, Op. 100 \nBy Antonin Dvořák (1841-1904)\nI. Allegro risoluto \nAllessandra West\, violin\nSheila Doak\, piano\n\nSonate-Fantaisie \nBy Pierre-Max Dubois (1930-1995)\nII. Incantatoire\nIII. Sérénade \nKendall Hengst\, alto saxophone\nRobert Elfline\, piano\n\nSalve Maria \nBy Saverio Mercadante (1795-1870)\nQuinten Bunch\, trombone\nSheila Doak\, piano\n\nCzárdás \nBy Vittorio Monti (1868-1922)\nDouglas James Ganster\, clarinet\nCharles Schmidt\, piano\n
URL;VALUE=URI:https://www.augustana.edu/about-us/events/2017/instrumental-students-recital
SUMMARY:Instrumental Students' Recital
DTSTART:20170510T010000Z
END:VEVENT
END:VCALENDAR
