BEGIN:VCALENDAR
VERSION:2.0
PRODID:-//hacksw/handcal//NONSGML v1.0//EN
CALSCALE:GREGORIAN
BEGIN:VEVENT
DTEND:20170506T180000Z
UID: 69e9153819100
DTSTAMP:20260422T133640Z
LOCATION:Thorson-Lucken Field
DESCRIPTION:Augustana's women's lacrosse team will play Illinois Wesleyan for the College Conference of Illinois &amp\; Wisconsin &nbsp\;title and the automatic bid to the NCAA Division III Tournament.&nbsp\;\n\nThe Vikings advanced to their third CCIW tournament championship game in as many years Wednesday with a 19-13 win over North Central.\n\nAugustana won the previous meeting with the Illinois Wesleyan 12-11 in overtime in Rock Island on April 8.\n\n&nbsp\;\n\n&nbsp\;\n
URL;VALUE=URI:https://www.augustana.edu/about-us/events/2017/womens-lacrosse-championship-game
SUMMARY:Women's lacrosse championship game
DTSTART:20170506T180000Z
END:VEVENT
END:VCALENDAR
