BEGIN:VCALENDAR
VERSION:2.0
PRODID:-//hacksw/handcal//NONSGML v1.0//EN
CALSCALE:GREGORIAN
BEGIN:VEVENT
DTEND:20180503T003000Z
UID: 69e74fcc94949
DTSTAMP:20260421T052204Z
LOCATION:Hanson Hall of Science
DESCRIPTION:The third annual Augustana Invitational Robotics Challenge competition asks contestants&nbsp\;to build an eco-friendly robot that can save the planet by recycling empty soda pop cans.\n\nThe challenge is open to any college or university. The registration deadline is April 24.\n\nThe event is in conjunction with Celebration of Learning Spring Symposium Day.\n
URL;VALUE=URI:https://www.augustana.edu/about-us/events/2017/augustana-invitational-robotics-challenge
SUMMARY:Augustana Invitational Robotics Challenge
DTSTART:20180503T003000Z
END:VEVENT
END:VCALENDAR
