BEGIN:VCALENDAR
VERSION:2.0
PRODID:-//hacksw/handcal//NONSGML v1.0//EN
CALSCALE:GREGORIAN
BEGIN:VEVENT
DTEND:20170602T210000Z
UID: 69e914cba8d3f
DTSTAMP:20260422T133451Z
LOCATION:Hanson Hall of Science
DESCRIPTION:Dr. Bohdan “Bo” Dziadyk\, retired professor of biology at Augustana\, will be the keynote speaker at the Illinois Native Plant Society annual meeting.\n\nThe meeting will include activities and programs at Augustana and at numerous field locations in Iowa and Illinois.\n\nDuring his 36 years at Augustana\, Dr. Dziadyk taught botany and ecology\; and was the director of Augustana’s ecological field stations. He will speak on "Plant Blindness\, Deep Ecology And The Conservation Ethos." at&nbsp\;7:30 p.m.&nbsp\;Saturday at the Wilson Center on campus.\n\nFriday's activities begin with registration and check-in at Hanson Hall from&nbsp\;4-6:30 p.m.&nbsp\;From&nbsp\;5:30-6:30&nbsp\;there will be a mixer in the atrium.&nbsp\;\n\nAt&nbsp\;6:45 p.m.\, photographers\, Linda and Robert Scarth will discuss and show images from their book "Deep Nature: Photographs from Iowa."\n\nAt&nbsp\;8:45 p.m.\, ecologist and author Connie Mutel will discuss "Reshaping Nature in the Corn Belt."\n\nOn Saturday\, there will be field trips to Thomson-Fulton Sand Prairie and Ayers Prairie\, a fern workshop at Wildcat Den\, and hikes at Wildcat Den\, Nahant Marsh\, Brockhouse Wet Prairie\, Indian Bluff Hill Prairie\, Beling Biological Preserve\, Collinson Ecological Preserve and Black Hawk Historical Site. Some field trips will be repeated Sunday.\n\nRegistration Form\n
URL;VALUE=URI:https://www.augustana.edu/about-us/events/2017/illinois-native-plant-society-annual-meeting
SUMMARY:Illinois Native Plant Society Annual Meeting
DTSTART:20170602T210000Z
END:VEVENT
END:VCALENDAR
