BEGIN:VCALENDAR
VERSION:2.0
PRODID:-//hacksw/handcal//NONSGML v1.0//EN
CALSCALE:GREGORIAN
BEGIN:VEVENT
DTEND:20170428T210000Z
UID: 69e9132b6dc13
DTSTAMP:20260422T132755Z
LOCATION:
DESCRIPTION:Harp Studio Showcase is an informal recital with harp solos and harp ensemble pieces by Augustana students and musicians from the Quad Cities community.\n\nThis is the fourth annual Augustana/community combined harp performance.\n\nMusic Department Page\n
URL;VALUE=URI:https://www.augustana.edu/about-us/events/2017/harp-studio-showcase
SUMMARY:Harp Studio Showcase
DTSTART:20170428T210000Z
END:VEVENT
END:VCALENDAR
