BEGIN:VCALENDAR
VERSION:2.0
PRODID:-//hacksw/handcal//NONSGML v1.0//EN
CALSCALE:GREGORIAN
BEGIN:VEVENT
DTEND:20170802T233000Z
UID: 69e91a823e689
DTSTAMP:20260422T135914Z
LOCATION:Lake Potter
DESCRIPTION:Dr. Reuben Heine\, Augustana College associate professor of geography\, will lead a Riverine Walk\, "Deep Maps — Historic Geography of Pool 16 of the Mississippi River."\n\nHe will take participants aboard the floating classroom "Stewardship" to travel back in time using historic maps and photographs.\n\nMeet at the north end of Lake Potter in Sunset Park\, Rock Island.\n\nThis program will be repeated from&nbsp\;9-10:30 a.m. on Saturday August 5.\n\nThe event is hosted by River Action\n
URL;VALUE=URI:https://www.augustana.edu/about-us/events/2017/riverine-walks-deep-maps-historic-geography-pool-16-mississippi-river
SUMMARY:Riverine Walks: Deep Maps — Historic Geography of Pool 16 of the Mississippi River
DTSTART:20170802T233000Z
END:VEVENT
END:VCALENDAR
