BEGIN:VCALENDAR
VERSION:2.0
PRODID:-//hacksw/handcal//NONSGML v1.0//EN
CALSCALE:GREGORIAN
BEGIN:VEVENT
DTEND:20170712T233000Z
UID: 69e9167eef06e
DTSTAMP:20260422T134206Z
LOCATION:Hennepin Canal Parkway Lock 31
DESCRIPTION:Dr. Norm Moline\, Augustana professor emeritus of geography\, will lead a Riverine Walk\, "River Confluence: Historical Importance\, Recreation Potentials."\n\nConfluences-where rivers meet-are special places in natural and historical contexts. Learn about the confluence of the Mississippi and Rock rivers and adjacent Hennepin Canal.\n\nMeet at the parking lot on Big Island Road\, Hennepin Lock 31\, Rock Island\, Ill.\n\nThe event will also take place on&nbsp\;July 15&nbsp\;from&nbsp\;9-10:30 a.m.&nbsp\;It is hosted by River Action.\n
URL;VALUE=URI:https://www.augustana.edu/about-us/events/2017/riverine-walk-river-confluence-historical-importance-recreation-potential
SUMMARY:Riverine Walk: River Confluence\, Historical Importance\, Recreation Potential
DTSTART:20170712T233000Z
END:VEVENT
END:VCALENDAR
