BEGIN:VCALENDAR
VERSION:2.0
PRODID:-//hacksw/handcal//NONSGML v1.0//EN
CALSCALE:GREGORIAN
BEGIN:VEVENT
DTEND:20170815T140000Z
UID: 69e9168941a91
DTSTAMP:20260422T134217Z
LOCATION:Riverbend Commons
DESCRIPTION:Augustana's Dr. Reuben Heine\, associate professor of geography\, and Dr. Norm Moline\, professor emeritus of geography\, will lead a Channel Chat Talk\, "River Landscape Mosaic."\n\nThey will discuss the channel characteristics\, riverfront uses and environmental issues in Pool 15 from Arsenal Island to Campbell's Island.\n\nAttendees should meet at the Riverbend Commons to board the Channel Cat water taxi.\n\nThe event is hosted by River Action.\n&nbsp\;\n
URL;VALUE=URI:https://www.augustana.edu/about-us/events/2017/channel-chat-talk-river-landscape-mosaic
SUMMARY:Channel Chat Talk: River Landscape Mosaic
DTSTART:20170815T140000Z
END:VEVENT
END:VCALENDAR
