BEGIN:VCALENDAR
VERSION:2.0
PRODID:-//hacksw/handcal//NONSGML v1.0//EN
CALSCALE:GREGORIAN
BEGIN:VEVENT
DTEND:20170601T140000Z
UID: 69e91a823e68b
DTSTAMP:20260422T135914Z
LOCATION:Riverbend Commons
DESCRIPTION:Dr. Araceli Masterson\, Augustana College associate professor of Spanish\, will give a Channel Cat talk\, "Mexican and Latino/a American Histories of the Quad Cities."\n\nShe will talk about the ways in which Latin American history\, and Mexican and Mexican-American history in particular\, are part of the Quad Cities.\n\nThe program will be given in English&nbsp\;May 30&nbsp\;and in Spanish on&nbsp\;June 1. Attendees should meet at the Riverbend Commons to board the Channel Cat water taxi.\n\nThe event is hosted by&nbsp\;River Action.\n
URL;VALUE=URI:https://www.augustana.edu/about-us/events/2017/channel-cat-talk-mexican-and-latinoa-american-histories-quad-cities
SUMMARY:Channel Cat Talk: Mexican and Latino/a American Histories of the Quad Cities
DTSTART:20170601T140000Z
END:VEVENT
END:VCALENDAR
