BEGIN:VCALENDAR
VERSION:2.0
PRODID:-//hacksw/handcal//NONSGML v1.0//EN
CALSCALE:GREGORIAN
BEGIN:VEVENT
DTEND:20170423T180000Z
UID: 69e916aae3e7d
DTSTAMP:20260422T134250Z
LOCATION:Hanson Hall of Science
DESCRIPTION:The Department of Chemistry will hold its annual open house for people of all ages from 1-4 p.m.\n\n&nbsp\;Faculty and students will perform and explain&nbsp\;many different chemistry demonstrations. There will also be a hands-on room for children with household materials.&nbsp\;Some labs will be open for viewing.\n
URL;VALUE=URI:https://www.augustana.edu/about-us/events/2017/chemistry-open-house
SUMMARY:Chemistry Open House
DTSTART:20170423T180000Z
END:VEVENT
END:VCALENDAR
