BEGIN:VCALENDAR
VERSION:2.0
PRODID:-//hacksw/handcal//NONSGML v1.0//EN
CALSCALE:GREGORIAN
BEGIN:VEVENT
DTEND:20170401T180000Z
UID: 69e9164eed318
DTSTAMP:20260422T134118Z
LOCATION:Swanson Stadium/Brunner Field
DESCRIPTION:The Augustana baseball team will take on Carroll University in a doubleheader with games at 1 and 3 p.m. The two teams will play again here Sunday at noon.\n
URL;VALUE=URI:https://www.augustana.edu/about-us/events/2017/baseball-doubleheader-vs-carroll-university
SUMMARY:Baseball doubleheader vs. Carroll University
DTSTART:20170401T180000Z
END:VEVENT
END:VCALENDAR
