BEGIN:VCALENDAR
VERSION:2.0
PRODID:-//hacksw/handcal//NONSGML v1.0//EN
CALSCALE:GREGORIAN
BEGIN:VEVENT
DTEND:20170421T000000Z
UID: 69e9167eed43f
DTSTAMP:20260422T134206Z
LOCATION:Denkmann Memorial Building
DESCRIPTION:Students from all majors are invited to this opportunity to network with Augustana alumni from different professions.\n\nAlumni will share their experiences since they left campus and offer job-seeking tips.\n\nHors d’oeuvres will be provided. Dress is business casual.\n
URL;VALUE=URI:https://www.augustana.edu/about-us/events/2017/alumni-and-student-networking-reception
SUMMARY:Alumni and Student Networking Reception
DTSTART:20170421T000000Z
END:VEVENT
END:VCALENDAR
