BEGIN:VCALENDAR
VERSION:2.0
PRODID:-//hacksw/handcal//NONSGML v1.0//EN
CALSCALE:GREGORIAN
BEGIN:VEVENT
DTEND:20170401T230000Z
UID: 69e74f6baccc0
DTSTAMP:20260421T052027Z
LOCATION:Modern Woodmen Park
DESCRIPTION:Augustana College Camp Kesem will hold its annual Make the Magic fundraiser. The goal this year is to provide a free week-long summer camp to 120 children touched by a parent’s cancer.&nbsp\;\n\nDoors open at&nbsp\;6 p.m.\; check-in closes at&nbsp\;6:30 p.m.&nbsp\;and programming begins at&nbsp\;7 p.m.\n\nAdmission includes cocktail hour and dinner.&nbsp\;\n
URL;VALUE=URI:https://www.augustana.edu/about-us/events/2017/make-magic
SUMMARY:Make the Magic
DTSTART:20170401T230000Z
END:VEVENT
END:VCALENDAR
