BEGIN:VCALENDAR
VERSION:2.0
PRODID:-//hacksw/handcal//NONSGML v1.0//EN
CALSCALE:GREGORIAN
BEGIN:VEVENT
DTEND:20170317T230000Z
UID: 69e9229f023dd
DTSTAMP:20260422T143351Z
LOCATION:Carver P.E. Center
DESCRIPTION:There&nbsp\;will be a watch party for the Augustana men's basketball team's appearance in the DIII Final Four&nbsp\;in Carver Center for the 6:30 p.m. tip-off. Fans will be able to watch a livestream of the game.\n\nSpectators can start to gather in Carver at 5&nbsp\;p.m. Concessions will be available.\n\nThe public is invited.\n
URL;VALUE=URI:https://www.augustana.edu/about-us/events/2017/ncaa-basketball-watch-party
SUMMARY:NCAA basketball watch party
DTSTART:20170317T230000Z
END:VEVENT
END:VCALENDAR
