BEGIN:VCALENDAR
VERSION:2.0
PRODID:-//hacksw/handcal//NONSGML v1.0//EN
CALSCALE:GREGORIAN
BEGIN:VEVENT
DTEND:20170322T210000Z
UID: 69e9232f02ad9
DTSTAMP:20260422T143615Z
LOCATION:Denkmann Memorial Building
DESCRIPTION:Augustana College will host a panel discussion\, "American Religion in the Age of Trump." It will be moderated by Christopher Jones\, Bergendoff Fellow in Religion at Augustana.\n\nPanelists will include:\n\nDaniel Morris\, lecturer in religion\, Augustana College\n\nMatthew J.M.&nbsp\;Coomber\, associate professor of biblical studies\, St. Ambrose University\n\nSophia Farooqui\, community leader\, teacher in the Davenport School District\n\nRefreshments will be served. Students are invited to stay afterwards for an informational session about majoring or minoring in Religion.&nbsp\;\n\nThe event is hosted by the Augustana College Department of Religion and the Institute for Leadership and Service.\n
URL;VALUE=URI:https://www.augustana.edu/about-us/events/2017/american-religion-age-trump
SUMMARY:American Religion in the Age of Trump
DTSTART:20170322T210000Z
END:VEVENT
END:VCALENDAR
