BEGIN:VCALENDAR
VERSION:2.0
PRODID:-//hacksw/handcal//NONSGML v1.0//EN
CALSCALE:GREGORIAN
BEGIN:VEVENT
DTEND:20170402T190000Z
UID: 69e9222c86d88
DTSTAMP:20260422T143156Z
LOCATION:Centennial Hall
DESCRIPTION:The United States Navy Concert Band will perform a variety of music\, including marches\, patriotic selections\, orchestral transcriptions and a modern wind ensemble repertoire.\n\nThe concert is free\, but to avoid overfilling the auditorium\, tickets are required\, with a limit of six per request. Those wishing to get tickets may stop by the Augustana Ticket Office\, 3703 7th Ave.\, Rock Island\, during normal business hours\,&nbsp\;10 a.m.-6 p.m. Monday-Friday and 10 a.m.-2 p.m. Saturdays.\n\nOr\, send a request along with a self-addressed\, stamped envelope to Augustana College Ticket Office\, 639 38th St.\, Rock Island\, Illinois\, 61201. Tickets will be mailed back.\n\nAs the original ensemble of the Navy Band\, the Concert Band has been performing public concerts and participating in high-profile events for over 85 years.\n
URL;VALUE=URI:https://www.augustana.edu/about-us/events/2017/united-states-navy-concert-band
SUMMARY:United States Navy Concert Band
DTSTART:20170402T190000Z
END:VEVENT
END:VCALENDAR
