BEGIN:VCALENDAR
VERSION:2.0
PRODID:-//hacksw/handcal//NONSGML v1.0//EN
CALSCALE:GREGORIAN
BEGIN:VEVENT
DTEND:20170322T000000Z
UID: 69e922bcb3b38
DTSTAMP:20260422T143420Z
LOCATION:Denkmann Memorial Building
DESCRIPTION:Augustana will host a&nbsp\;Quad Cities community interfaith dialogue\, "What is Unity?&nbsp\;Living a Life of Reconciliation."&nbsp\;\n\nThe discussion will be led by&nbsp\;Imam Saad Baig\, Islamic Center of the Quad Cities\;&nbsp\;Rabbi Jeffrey Lipschultz\, Tri-City Jewish Center\; and&nbsp\;Pastor Richard Priggie\, Augustana College.\n\nAll are welcome.&nbsp\;Refreshments will be served after the program.\n&nbsp\;\n
URL;VALUE=URI:https://www.augustana.edu/about-us/events/2017/what-unity-living-life-reconciliation
SUMMARY: "What is Unity? Living a Life of Reconciliation" 
DTSTART:20170322T000000Z
END:VEVENT
END:VCALENDAR
